BEGIN:VCALENDAR
VERSION:2.0
PRODID:-//Andancette - ECPv6.15.20//NONSGML v1.0//EN
CALSCALE:GREGORIAN
METHOD:PUBLISH
X-WR-CALNAME:Andancette
X-ORIGINAL-URL:https://www.andancette.fr
X-WR-CALDESC:Évènements pour Andancette
REFRESH-INTERVAL;VALUE=DURATION:PT1H
X-Robots-Tag:noindex
X-PUBLISHED-TTL:PT1H
BEGIN:VTIMEZONE
TZID:Europe/Paris
BEGIN:DAYLIGHT
TZOFFSETFROM:+0100
TZOFFSETTO:+0200
TZNAME:CEST
DTSTART:20250330T010000
END:DAYLIGHT
BEGIN:STANDARD
TZOFFSETFROM:+0200
TZOFFSETTO:+0100
TZNAME:CET
DTSTART:20251026T010000
END:STANDARD
BEGIN:DAYLIGHT
TZOFFSETFROM:+0100
TZOFFSETTO:+0200
TZNAME:CEST
DTSTART:20260329T010000
END:DAYLIGHT
BEGIN:STANDARD
TZOFFSETFROM:+0200
TZOFFSETTO:+0100
TZNAME:CET
DTSTART:20261025T010000
END:STANDARD
BEGIN:DAYLIGHT
TZOFFSETFROM:+0100
TZOFFSETTO:+0200
TZNAME:CEST
DTSTART:20270328T010000
END:DAYLIGHT
BEGIN:STANDARD
TZOFFSETFROM:+0200
TZOFFSETTO:+0100
TZNAME:CET
DTSTART:20271031T010000
END:STANDARD
END:VTIMEZONE
BEGIN:VEVENT
DTSTART;TZID=Europe/Paris:20260425T080000
DTEND;TZID=Europe/Paris:20260425T080000
DTSTAMP:20260425T054107
CREATED:20251230T073240Z
LAST-MODIFIED:20251230T073240Z
UID:3520-1777104000-1777104000@www.andancette.fr
SUMMARY:Matinée Ardéchoise
DESCRIPTION:
URL:https://www.andancette.fr/event/matinee-ardechoise/
LOCATION:Place Maxime Chantier\, ANDANCE\, 07340\, France
CATEGORIES:Andance
END:VEVENT
BEGIN:VEVENT
DTSTART;TZID=Europe/Paris:20260501T090000
DTEND;TZID=Europe/Paris:20260501T090000
DTSTAMP:20260425T054107
CREATED:20251230T073240Z
LAST-MODIFIED:20251230T073240Z
UID:3521-1777626000-1777626000@www.andancette.fr
SUMMARY:Vente de muguet
DESCRIPTION:
URL:https://www.andancette.fr/event/vente-de-muguet/
LOCATION:Place Maxime Chantier\, ANDANCE\, 07340\, France
CATEGORIES:Andance
END:VEVENT
BEGIN:VEVENT
DTSTART;TZID=Europe/Paris:20260502T090000
DTEND;TZID=Europe/Paris:20260502T090000
DTSTAMP:20260425T054107
CREATED:20251230T073240Z
LAST-MODIFIED:20251230T073240Z
UID:3522-1777712400-1777712400@www.andancette.fr
SUMMARY:Concours officiel
DESCRIPTION:
URL:https://www.andancette.fr/event/concours-officiel/
LOCATION:Plan d’eau du Disard\, Route de Disard\, ANDANCETTE\, 26140\, France
CATEGORIES:Andancette
ORGANIZER;CN="Soci%C3%A9t%C3%A9 de P%C3%AAche Albon Bancel (S.P.A.B.)":MAILTO:fourtcarp@orange.fr
END:VEVENT
BEGIN:VEVENT
DTSTART;TZID=Europe/Paris:20260508T104500
DTEND;TZID=Europe/Paris:20260508T104500
DTSTAMP:20260425T054107
CREATED:20251230T073240Z
LAST-MODIFIED:20251230T073240Z
UID:3523-1778237100-1778237100@www.andancette.fr
SUMMARY:Commémoration
DESCRIPTION:
URL:https://www.andancette.fr/event/commemoration-10/
LOCATION:Salle Nord de la Mairie\, 19 rue de la Mairie\, ANDANCETTE\, 26140\, France
CATEGORIES:Andancette
END:VEVENT
BEGIN:VEVENT
DTSTART;TZID=Europe/Paris:20260514T140000
DTEND;TZID=Europe/Paris:20260514T140000
DTSTAMP:20260425T054107
CREATED:20251230T073240Z
LAST-MODIFIED:20251230T073240Z
UID:3524-1778767200-1778767200@www.andancette.fr
SUMMARY:Pétanque
DESCRIPTION:
URL:https://www.andancette.fr/event/petanque-12/
LOCATION:Plan d’eau du Disard\, Route de Disard\, ANDANCETTE\, 26140\, France
CATEGORIES:Andancette
ORGANIZER;CN="Football Club du Ch%C3%A2telet":MAILTO:04.75.23.01.28 / 06.85.90.77.41
END:VEVENT
BEGIN:VEVENT
DTSTART;TZID=Europe/Paris:20260522T174500
DTEND;TZID=Europe/Paris:20260522T174500
DTSTAMP:20260425T054107
CREATED:20251230T073419Z
LAST-MODIFIED:20251230T073419Z
UID:3525-1779471900-1779471900@www.andancette.fr
SUMMARY:Spectacle de musique
DESCRIPTION:
URL:https://www.andancette.fr/event/spectacle-de-musique/
CATEGORIES:Andancette
ORGANIZER;CN="Sou des %C3%A9coles Andancette":MAILTO:sou.andancette@gmail.com
END:VEVENT
BEGIN:VEVENT
DTSTART;TZID=Europe/Paris:20260530T130000
DTEND;TZID=Europe/Paris:20260530T130000
DTSTAMP:20260425T054107
CREATED:20251230T073419Z
LAST-MODIFIED:20251230T073419Z
UID:3526-1780146000-1780146000@www.andancette.fr
SUMMARY:Paella / concours pétanque
DESCRIPTION:
URL:https://www.andancette.fr/event/paella-concours-petanque/
CATEGORIES:Andance
END:VEVENT
BEGIN:VEVENT
DTSTART;TZID=Europe/Paris:20260606T080000
DTEND;TZID=Europe/Paris:20260606T080000
DTSTAMP:20260425T054107
CREATED:20251230T073419Z
LAST-MODIFIED:20251230T073419Z
UID:3527-1780732800-1780732800@www.andancette.fr
SUMMARY:Tounoi jeunes
DESCRIPTION:
URL:https://www.andancette.fr/event/tounoi-jeunes/
CATEGORIES:Champagne
ORGANIZER;CN="Football Club du Ch%C3%A2telet":MAILTO:04.75.23.01.28 / 06.85.90.77.41
END:VEVENT
BEGIN:VEVENT
DTSTART;TZID=Europe/Paris:20260607T080000
DTEND;TZID=Europe/Paris:20260607T080000
DTSTAMP:20260425T054107
CREATED:20251230T073420Z
LAST-MODIFIED:20251230T073420Z
UID:3528-1780819200-1780819200@www.andancette.fr
SUMMARY:Tounoi séniors
DESCRIPTION:
URL:https://www.andancette.fr/event/tounoi-seniors/
CATEGORIES:Champagne
ORGANIZER;CN="Football Club du Ch%C3%A2telet":MAILTO:04.75.23.01.28 / 06.85.90.77.41
END:VEVENT
BEGIN:VEVENT
DTSTART;TZID=Europe/Paris:20260607T090000
DTEND;TZID=Europe/Paris:20260607T090000
DTSTAMP:20260425T054107
CREATED:20251230T073420Z
LAST-MODIFIED:20251230T073420Z
UID:3529-1780822800-1780822800@www.andancette.fr
SUMMARY:Rencontre intervillage
DESCRIPTION:
URL:https://www.andancette.fr/event/rencontre-intervillage-2/
LOCATION:Tennis\, D431\, ANDANCETTE\, 26140\, France
CATEGORIES:Andancette
ORGANIZER;CN="Tennis Club Andancettois (T.C.A.)":MAILTO:tennisclubandancettois@hotmail.fr
END:VEVENT
BEGIN:VEVENT
DTSTART;TZID=Europe/Paris:20260612T190000
DTEND;TZID=Europe/Paris:20260612T190000
DTSTAMP:20260425T054107
CREATED:20251230T073434Z
LAST-MODIFIED:20251230T074336Z
UID:3530-1781290800-1781290800@www.andancette.fr
SUMMARY:Assemblée Générale F.C.C.
DESCRIPTION:
URL:https://www.andancette.fr/event/assemblee-generale-25/
LOCATION:Salle des fêtes Jean Chenevier\, 18 rue André Chaudier\, ANDANCETTE\, 26140\, France
CATEGORIES:Andancette
ORGANIZER;CN="Football Club du Ch%C3%A2telet":MAILTO:04.75.23.01.28 / 06.85.90.77.41
END:VEVENT
BEGIN:VEVENT
DTSTART;TZID=Europe/Paris:20260613T140000
DTEND;TZID=Europe/Paris:20260613T140000
DTSTAMP:20260425T054107
CREATED:20251230T073434Z
LAST-MODIFIED:20251230T073434Z
UID:3533-1781359200-1781359200@www.andancette.fr
SUMMARY:Tournoi pétanque
DESCRIPTION:
URL:https://www.andancette.fr/event/tournoi-petanque-2/
LOCATION:Place Maxime Chantier\, ANDANCE\, 07340\, France
CATEGORIES:Andance
ORGANIZER;CN="Andance Andancette Basket (A.A.B.)":MAILTO:aabsecretariat@gmail.com
END:VEVENT
BEGIN:VEVENT
DTSTART;TZID=Europe/Paris:20260613T170000
DTEND;TZID=Europe/Paris:20260613T170000
DTSTAMP:20260425T054107
CREATED:20251230T073434Z
LAST-MODIFIED:20251230T073434Z
UID:3532-1781370000-1781370000@www.andancette.fr
SUMMARY:Spectacle de danse
DESCRIPTION:
URL:https://www.andancette.fr/event/spectacle-de-danse-3/
LOCATION:Salle Grasset\, ANDANCE\, 07340\, France
CATEGORIES:Andance
ORGANIZER;CN="Association Familles Rurales (A.F.R.) les Villages du Ch%C3%A2telet":MAILTO:afrchatelet@yahoo.fr
END:VEVENT
BEGIN:VEVENT
DTSTART;TZID=Europe/Paris:20260613T190000
DTEND;TZID=Europe/Paris:20260613T190000
DTSTAMP:20260425T054107
CREATED:20251230T073434Z
LAST-MODIFIED:20251230T073434Z
UID:3531-1781377200-1781377200@www.andancette.fr
SUMMARY:Commémoration aux Pales
DESCRIPTION:
URL:https://www.andancette.fr/event/commemoration-aux-pales-3/
CATEGORIES:Andance
END:VEVENT
BEGIN:VEVENT
DTSTART;TZID=Europe/Paris:20260614T090000
DTEND;TZID=Europe/Paris:20260614T090000
DTSTAMP:20260425T054107
CREATED:20251230T073435Z
LAST-MODIFIED:20251230T073435Z
UID:3534-1781427600-1781427600@www.andancette.fr
SUMMARY:Tournoi basket
DESCRIPTION:
URL:https://www.andancette.fr/event/tournoi-basket-3/
LOCATION:Place Maxime Chantier\, ANDANCE\, 07340\, France
CATEGORIES:Andance
ORGANIZER;CN="Andance Andancette Basket (A.A.B.)":MAILTO:aabsecretariat@gmail.com
END:VEVENT
BEGIN:VEVENT
DTSTART;TZID=Europe/Paris:20260625T190000
DTEND;TZID=Europe/Paris:20260625T190000
DTSTAMP:20260425T054107
CREATED:20251230T073450Z
LAST-MODIFIED:20251230T074358Z
UID:3535-1782414000-1782414000@www.andancette.fr
SUMMARY:Assemblée Générale A.A.B.
DESCRIPTION:
URL:https://www.andancette.fr/event/assemblee-generale-26/
LOCATION:Gymnase\, ANDANCE\, 07340\, France
CATEGORIES:Andance
ORGANIZER;CN="Andance Andancette Basket (A.A.B.)":MAILTO:aabsecretariat@gmail.com
END:VEVENT
BEGIN:VEVENT
DTSTART;TZID=Europe/Paris:20260626T163000
DTEND;TZID=Europe/Paris:20260626T163000
DTSTAMP:20260425T054107
CREATED:20251230T073450Z
LAST-MODIFIED:20251230T073450Z
UID:3537-1782491400-1782491400@www.andancette.fr
SUMMARY:Fête des écoles
DESCRIPTION:
URL:https://www.andancette.fr/event/fete-des-ecoles-7/
CATEGORIES:Andance
END:VEVENT
BEGIN:VEVENT
DTSTART;TZID=Europe/Paris:20260626T173000
DTEND;TZID=Europe/Paris:20260626T173000
DTSTAMP:20260425T054107
CREATED:20251230T073450Z
LAST-MODIFIED:20251230T073450Z
UID:3536-1782495000-1782495000@www.andancette.fr
SUMMARY:Fête des écoles
DESCRIPTION:
URL:https://www.andancette.fr/event/fete-des-ecoles-6/
LOCATION:Parc Clos Nougier\, ANDANCETTE\, 26140\, France
CATEGORIES:Andancette
ORGANIZER;CN="Sou des %C3%A9coles Andancette":MAILTO:sou.andancette@gmail.com
END:VEVENT
BEGIN:VEVENT
DTSTART;TZID=Europe/Paris:20260627T173000
DTEND;TZID=Europe/Paris:20260627T173000
DTSTAMP:20260425T054107
CREATED:20251230T073450Z
LAST-MODIFIED:20251230T074427Z
UID:3538-1782581400-1782581400@www.andancette.fr
SUMMARY:Assemblée Générale T.C.A. + Finale tournoi + repas
DESCRIPTION:
URL:https://www.andancette.fr/event/assemblee-generale-finale-tournoi-repas/
LOCATION:Tennis\, D431\, ANDANCETTE\, 26140\, France
CATEGORIES:Andancette
ORGANIZER;CN="Tennis Club Andancettois (T.C.A.)":MAILTO:tennisclubandancettois@hotmail.fr
END:VEVENT
BEGIN:VEVENT
DTSTART;TZID=Europe/Paris:20260628T100000
DTEND;TZID=Europe/Paris:20260628T100000
DTSTAMP:20260425T054107
CREATED:20251230T073450Z
LAST-MODIFIED:20251230T073450Z
UID:3539-1782640800-1782640800@www.andancette.fr
SUMMARY:Kermesse
DESCRIPTION:
URL:https://www.andancette.fr/event/kermesse-4/
CATEGORIES:Andance
END:VEVENT
BEGIN:VEVENT
DTSTART;TZID=Europe/Paris:20260711T090000
DTEND;TZID=Europe/Paris:20260711T090000
DTSTAMP:20260425T054107
CREATED:20251230T073534Z
LAST-MODIFIED:20251230T073534Z
UID:3540-1783760400-1783760400@www.andancette.fr
SUMMARY:Le Grand Prix d'Andance - Pétanque
DESCRIPTION:
URL:https://www.andancette.fr/event/le-grand-prix-dandance-petanque/
LOCATION:Salle Grasset\, ANDANCE\, 07340\, France
CATEGORIES:Andance
END:VEVENT
BEGIN:VEVENT
DTSTART;TZID=Europe/Paris:20260712T180000
DTEND;TZID=Europe/Paris:20260712T180000
DTSTAMP:20260425T054107
CREATED:20251230T073535Z
LAST-MODIFIED:20251230T073535Z
UID:3541-1783879200-1783879200@www.andancette.fr
SUMMARY:Cérémonie du Creux
DESCRIPTION:
URL:https://www.andancette.fr/event/ceremonie-du-creux-4/
CATEGORIES:Andancette
END:VEVENT
BEGIN:VEVENT
DTSTART;TZID=Europe/Paris:20260717T180000
DTEND;TZID=Europe/Paris:20260717T180000
DTSTAMP:20260425T054107
CREATED:20251230T073535Z
LAST-MODIFIED:20251230T073535Z
UID:3542-1784311200-1784311200@www.andancette.fr
SUMMARY:Figlina Festival - Marché nocturne
DESCRIPTION:
URL:https://www.andancette.fr/event/figlina-festival-marche-nocturne-2/
LOCATION:Parc Clos Nougier\, ANDANCETTE\, 26140\, France
CATEGORIES:Andancette
ORGANIZER;CN="Comit%C3%A9 des F%C3%AAtes Andancette":MAILTO:comitedesfetesandancette@laposte.net
END:VEVENT
BEGIN:VEVENT
DTSTART;TZID=Europe/Paris:20260718T100000
DTEND;TZID=Europe/Paris:20260718T100000
DTSTAMP:20260425T054107
CREATED:20251230T073535Z
LAST-MODIFIED:20251230T073535Z
UID:3543-1784368800-1784368800@www.andancette.fr
SUMMARY:Figlina Festival
DESCRIPTION:
URL:https://www.andancette.fr/event/figlina-festival/
LOCATION:Parc Clos Nougier\, ANDANCETTE\, 26140\, France
CATEGORIES:Andancette
ORGANIZER;CN="Comit%C3%A9 des F%C3%AAtes Andancette":MAILTO:comitedesfetesandancette@laposte.net
END:VEVENT
BEGIN:VEVENT
DTSTART;TZID=Europe/Paris:20260718T230000
DTEND;TZID=Europe/Paris:20260718T230000
DTSTAMP:20260425T054107
CREATED:20251230T073535Z
LAST-MODIFIED:20251230T073535Z
UID:3544-1784415600-1784415600@www.andancette.fr
SUMMARY:Feu d'artifice
DESCRIPTION:
URL:https://www.andancette.fr/event/feu-dartifice-5/
LOCATION:Parc Clos Nougier\, ANDANCETTE\, 26140\, France
CATEGORIES:Andancette
ORGANIZER;CN="Comit%C3%A9 des F%C3%AAtes Andancette":MAILTO:comitedesfetesandancette@laposte.net
END:VEVENT
BEGIN:VEVENT
DTSTART;TZID=Europe/Paris:20260728T150000
DTEND;TZID=Europe/Paris:20260728T150000
DTSTAMP:20260425T054107
CREATED:20251230T073550Z
LAST-MODIFIED:20251230T073550Z
UID:3545-1785250800-1785250800@www.andancette.fr
SUMMARY:Collecte de sang
DESCRIPTION:
URL:https://www.andancette.fr/event/collecte-de-sang-7/
LOCATION:Salle des fêtes Jean Chenevier\, 18 rue André Chaudier\, ANDANCETTE\, 26140\, France
CATEGORIES:Andancette
END:VEVENT
BEGIN:VEVENT
DTSTART;TZID=Europe/Paris:20260815T080000
DTEND;TZID=Europe/Paris:20260815T080000
DTSTAMP:20260425T054107
CREATED:20251230T073550Z
LAST-MODIFIED:20251230T073550Z
UID:3546-1786780800-1786780800@www.andancette.fr
SUMMARY:Pétanque
DESCRIPTION:
URL:https://www.andancette.fr/event/petanque-13/
LOCATION:Gymnase\, ANDANCE\, 07340\, France
CATEGORIES:Andance
ORGANIZER;CN="Association Communale de Chasse Agr%C3%A9%C3%A9e (A.C.C.A) 'L'Alouette Andancettoise'":MAILTO:acca.andancette@gmail.com
END:VEVENT
BEGIN:VEVENT
DTSTART;TZID=Europe/Paris:20260815T200000
DTEND;TZID=Europe/Paris:20260815T200000
DTSTAMP:20260425T054107
CREATED:20251230T073550Z
LAST-MODIFIED:20251230T073550Z
UID:3547-1786824000-1786824000@www.andancette.fr
SUMMARY:Concert - Bal
DESCRIPTION:
URL:https://www.andancette.fr/event/concert-bal-3/
LOCATION:Quai Bernard Clavel\, Quai Bernard Clavel\, ANDANCE\, 07340\, France
CATEGORIES:Andance
END:VEVENT
BEGIN:VEVENT
DTSTART;TZID=Europe/Paris:20260815T220000
DTEND;TZID=Europe/Paris:20260815T220000
DTSTAMP:20260425T054107
CREATED:20251230T073550Z
LAST-MODIFIED:20251230T073550Z
UID:3548-1786831200-1786831200@www.andancette.fr
SUMMARY:Feu d'artifice
DESCRIPTION:
URL:https://www.andancette.fr/event/feu-dartifice-6/
LOCATION:Quai Bernard Clavel\, Quai Bernard Clavel\, ANDANCE\, 07340\, France
CATEGORIES:Andance
END:VEVENT
BEGIN:VEVENT
DTSTART;TZID=Europe/Paris:20260903T000000
DTEND;TZID=Europe/Paris:20260903T000000
DTSTAMP:20260425T054107
CREATED:20251230T073550Z
LAST-MODIFIED:20251230T073550Z
UID:3549-1788393600-1788393600@www.andancette.fr
SUMMARY:Balade vivarais en Ancètres 10 ans
DESCRIPTION:
URL:https://www.andancette.fr/event/balade-vivarais-en-ancetres-10-ans/
LOCATION:Salle Grasset\, ANDANCE\, 07340\, France
CATEGORIES:Andance
END:VEVENT
END:VCALENDAR